BEGIN:VCALENDAR
VERSION:2.0
PRODID:-//Squarespace Inc/Squarespace 6//v6//EN
BEGIN:VEVENT
UID:5bd94bbc352f53cb4cc07715@squarespace.com
DTSTAMP:20190204T052339Z
DTSTART:20181101T070000Z
DTEND:20181101T090000Z
SUMMARY:Queensland Branch Catch-Up
GEO:-27.481043;153.036198
LOCATION:Pineapple Hotel\, 706 Main Street\, Kangaroo Point\, QLD\, 4169\, 
 Australia
END:VEVENT
END:VCALENDAR
