BEGIN:VCALENDAR
VERSION:2.0
PRODID:-//Squarespace Inc/Squarespace 6//v6//EN
BEGIN:VEVENT
UID:5bbe8916104c7b83eafc9176@squarespace.com
DTSTAMP:20181031T062916Z
DTSTART:20181114T080000Z
DTEND:20181114T110000Z
SUMMARY:UK ARM Quarterly Drinks
GEO:51.491828;-0.140873
LOCATION:Marquis of Westminster\, 50 Warwick Way\, London\, England\, SW1V 
 1RY\, United Kingdom
END:VEVENT
END:VCALENDAR
