BEGIN:VCALENDAR
VERSION:2.0
PRODID:-//Squarespace Inc/Squarespace 6//v6//EN
BEGIN:VEVENT
UID:5be3dae40e2e72806da34fec@squarespace.com
DTSTAMP:20181112T065252Z
DTSTART:20181128T074500Z
DTEND:20181128T101500Z
SUMMARY:SA Branch Movie Night "Robin Hood" (M)
GEO:-34.974779;138.610242
LOCATION:Wallis Theatre\, Level 1\, Mitcham Shopping Centre\, 119 Belair Ro
 ad\, Torrens Park\, SA 5062\, Australia
END:VEVENT
END:VCALENDAR
