BEGIN:VCALENDAR
VERSION:2.0
PRODID:-//Squarespace Inc/Squarespace 6//v6//EN
BEGIN:VEVENT
UID:5c1194474fa51a7be908121a@squarespace.com
DTSTAMP:20181212T230918Z
DTSTART:20181217T060000Z
DTEND:20181217T073000Z
SUMMARY:Cheers and beers for the republic - a loyal toast
GEO:-34.800128;138.66993
LOCATION:Adelaide Convention Centre\, Riverbank 6\, Adelaide\, South Austra
 lia\, 5000\, Australia
END:VEVENT
END:VCALENDAR
