BEGIN:VCALENDAR
VERSION:2.0
PRODID:-//Squarespace Inc/Squarespace 6//v6//EN
BEGIN:VEVENT
UID:5c1192d5b8a045e69b72072e@squarespace.com
DTSTAMP:20181212T231124Z
DTSTART:20181217T050000Z
DTEND:20181217T060000Z
SUMMARY:Inclusive Patriotism and an Australian head of state: a panel discu
 ssion
GEO:-34.932829;138.603813
LOCATION:Adelaide Convention Centre\, Riverbank 6\, Adelaide\, South Austra
 lia\, 5000\, Australia
END:VEVENT
END:VCALENDAR
