BEGIN:VCALENDAR
VERSION:2.0
PRODID:-//Squarespace Inc/Squarespace 6//v6//EN
BEGIN:VEVENT
UID:5bf791770e2e726025dc4004@squarespace.com
DTSTAMP:20181204T063645Z
DTSTART:20181206T053000Z
DTEND:20181206T080000Z
SUMMARY:Qld Branch outreach then end of year catch up
GEO:-27.466287;153.026453
LOCATION:Eternal Flame\, Anzac Square\, Ann Street\, Brisbane\, 4005
END:VEVENT
END:VCALENDAR
