BEGIN:VCALENDAR
VERSION:2.0
PRODID:-//Squarespace Inc/Squarespace 6//v6//EN
BEGIN:VEVENT
UID:5b626ffe03ce64ad3554aa09@squarespace.com
DTSTAMP:20180802T025907Z
DTSTART:20180818T120000Z
DTEND:20180818T210000Z
SUMMARY:Info Sign up Stand at Morayfield
GEO:-27.117237;152.951577
LOCATION:Morayfield Rd Shoppingcentre\, 171 Morayfield Rd\, Morayfield\, Ql
 d\, 4506
END:VEVENT
END:VCALENDAR
