BEGIN:VCALENDAR
VERSION:2.0
PRODID:-//Squarespace Inc/Squarespace 6//v6//EN
BEGIN:VEVENT
UID:5b7d135daa4a99594fa0814d@squarespace.com
DTSTAMP:20180822T074410Z
DTSTART:20180830T203000Z
DTEND:20180830T220000Z
SUMMARY:Street Stall & Pub Catch Up
GEO:-27.469771;153.025124
LOCATION:ANZAC Square Memorial\, Adelaide St\, Brisbane\, Australia
END:VEVENT
END:VCALENDAR
