BEGIN:VCALENDAR
VERSION:2.0
PRODID:-//Squarespace Inc/Squarespace 6//v6//EN
BEGIN:VEVENT
UID:5b7a71a040ec9a9bc8974890@squarespace.com
DTSTAMP:20180821T013847Z
DTSTART:20180901T163000Z
DTEND:20180901T183000Z
SUMMARY:Drinks in support of an Australian Republic
GEO:-32.068077;115.998763
LOCATION:The Gosnells Hotel\, 2149 Albany Highway\, Gosnells\, Australia
END:VEVENT
END:VCALENDAR
