BEGIN:VCALENDAR
VERSION:2.0
PRODID:-//Squarespace Inc/Squarespace 6//v6//EN
BEGIN:VEVENT
UID:5b62712aaa4a99d252918110@squarespace.com
DTSTAMP:20180821T013724Z
DTSTART:20180901T143000Z
DTEND:20180901T173000Z
SUMMARY:Save the Date - Wattle Day 2018
END:VEVENT
END:VCALENDAR
