BEGIN:VCALENDAR
VERSION:2.0
PRODID:-//Squarespace Inc/Squarespace 6//v6//EN
BEGIN:VEVENT
UID:5c57d2adfa0d6079fea65b99@squarespace.com
DTSTAMP:20190204T064906Z
DTSTART:20190217T113000Z
DTEND:20190217T123000Z
SUMMARY:National Multicultural Festival - Canberra
GEO:-35.279499;149.132037
LOCATION:National Multicultural Festival\, Petrie Plaza\, Canberra\, ACT
END:VEVENT
END:VCALENDAR
