BEGIN:VCALENDAR
VERSION:2.0
PRODID:-//Squarespace Inc/Squarespace 6//v6//EN
BEGIN:VEVENT
UID:5c58be65f4e1fc16c29f8b76@squarespace.com
DTSTAMP:20190204T223716Z
DTSTART:20190221T073000Z
DTEND:20190221T093000Z
SUMMARY:ARM Welcome Back Drinks
GEO:-37.809321;144.96965
LOCATION:Coopers Inn Hotel\, 282 Exhibition Street\, Melbourne\, VIC\, 3000
 \, Australia
END:VEVENT
END:VCALENDAR
