BEGIN:VCALENDAR
VERSION:2.0
PRODID:-//Squarespace Inc/Squarespace 6//v6//EN
BEGIN:VEVENT
UID:5c5797277817f790cc0ef4c8@squarespace.com
DTSTAMP:20190204T014551Z
DTSTART:20190226T080000Z
DTEND:20190226T100000Z
SUMMARY:UK Supporter Quarterly Drinks 
GEO:51.491828;-0.140873
LOCATION:Marquis of Westminster\, 50 Warwick Way\, Pimlico SW1V 1RY\, Unite
 d Kingdom
END:VEVENT
END:VCALENDAR
