BEGIN:VCALENDAR
VERSION:2.0
PRODID:-//Squarespace Inc/Squarespace 6//v6//EN
BEGIN:VEVENT
UID:5c7609541905f480f9e7f82d@squarespace.com
DTSTAMP:20190227T035939Z
DTSTART:20190306T070000Z
DTEND:20190306T090000Z
SUMMARY:NSW: Ready for 2019 to kick into gear?
GEO:-33.874671;151.208184
LOCATION:The Edinburgh Castle\, 294 Pitt Street\, Sydney\, Australia
END:VEVENT
END:VCALENDAR
