BEGIN:VCALENDAR
VERSION:2.0
PRODID:-//Squarespace Inc/Squarespace 6//v6//EN
BEGIN:VEVENT
UID:5c4555831ae6cfd79f192c97@squarespace.com
DTSTAMP:20190227T050115Z
DTSTART:20190205T073000Z
DTEND:20190205T113000Z
SUMMARY:Adelaide republican meet-up 
GEO:-34.93231;138.598317
LOCATION:Loft\, Minor Works Building\, 22 Stamford Court\, Adelaide\, SA\, 
 5000\, Australia
END:VEVENT
END:VCALENDAR
