BEGIN:VCALENDAR
VERSION:2.0
PRODID:-//Squarespace Inc/Squarespace 6//v6//EN
BEGIN:VEVENT
UID:5c76199b71c10b60aefc8b3a@squarespace.com
DTSTAMP:20190228T065915Z
DTSTART:20190322T213000Z
DTEND:20190323T053000Z
SUMMARY:Republic outreach at the Mt Barker District Show
GEO:-35.075146;138.868759
LOCATION:Mt Barker Oval\, Corner of Alexandrina Road and Wellington Road\, 
 Mt Barker\, Australia
END:VEVENT
END:VCALENDAR
