BEGIN:VCALENDAR
VERSION:2.0
PRODID:-//Squarespace Inc/Squarespace 6//v6//EN
BEGIN:VEVENT
UID:5c3828cf4d7a9c4b95def796@squarespace.com
DTSTAMP:20190111T053220Z
DTSTART:20190208T060000Z
DTEND:20190208T073000Z
SUMMARY:Trust the people: the prospects for an Australian republic
END:VEVENT
END:VCALENDAR
