BEGIN:VCALENDAR
VERSION:2.0
PRODID:-//Squarespace Inc/Squarespace 6//v6//EN
BEGIN:VEVENT
UID:5c06220c032be4b1465155ea@squarespace.com
DTSTAMP:20190211T063410Z
DTSTART:20181213T063000Z
DTEND:20181213T083000Z
SUMMARY:Canberra Region end of year catch up
GEO:-35.32659;149.082407
LOCATION:Statesman Hotel\, 14 Theodore St\, Curtin 2605\, Australia
END:VEVENT
END:VCALENDAR
