BEGIN:VCALENDAR
VERSION:2.0
PRODID:-//Squarespace Inc/Squarespace 6//v6//EN
BEGIN:VEVENT
UID:5b9b607c2b6a28b42975cf69@squarespace.com
DTSTAMP:20180914T073810Z
DTSTART:20180915T040000Z
DTEND:20181014T043000Z
SUMMARY:Floriade Festival Outreach - Volunteers wanted!
GEO:-35.473468;149.012368
LOCATION:Commonwealth Park\, Australian Capital Territory\, Australia
END:VEVENT
END:VCALENDAR
