BEGIN:VCALENDAR
VERSION:2.0
PRODID:-//Squarespace Inc/Squarespace 6//v6//EN
BEGIN:VEVENT
UID:5b9b56e34ae23739aa459501@squarespace.com
DTSTAMP:20180914T072914Z
DTSTART:20180927T080000Z
DTEND:20180927T100000Z
SUMMARY:Perth Fundraising Drinks with Peter FitzSimons
GEO:-31.961134;115.902365
LOCATION:Empire Bar\, 220 Great Eastern Highway\, Lathlain\, WA\, 6100\, Au
 stralia
END:VEVENT
END:VCALENDAR
