BEGIN:VCALENDAR
VERSION:2.0
PRODID:-//Squarespace Inc/Squarespace 6//v6//EN
BEGIN:VEVENT
UID:5b7b90008a922d103f8087d2@squarespace.com
DTSTAMP:20180914T063619Z
DTSTART:20180915T020000Z
DTEND:20180915T040000Z
SUMMARY:Parramatta BBQ
GEO:-33.80874;150.994947
LOCATION:Mana Shelter\, Parramatta Park\, Pitt St & Macquarie St\, Parramat
 ta\, NSW 2150\, Australia
END:VEVENT
END:VCALENDAR
