BEGIN:VCALENDAR
VERSION:2.0
PRODID:-//Squarespace Inc/Squarespace 6//v6//EN
BEGIN:VEVENT
UID:5b7a57e370a6adf8873fe34a@squarespace.com
DTSTAMP:20180821T013754Z
DTSTART:20180901T160000Z
DTEND:20180901T180000Z
SUMMARY:Australian Republic Movement Wattle Day BBQ
GEO:-34.005369;150.885434
LOCATION:Ingleburn Reserve\, Picnic Gr\, Ingleburn 2565\, Australia
END:VEVENT
END:VCALENDAR
