BEGIN:VCALENDAR
VERSION:2.0
PRODID:-//Squarespace Inc/Squarespace 6//v6//EN
BEGIN:VEVENT
UID:5b8f57df6d2a73c1c9a53266@squarespace.com
DTSTAMP:20180914T071716Z
DTSTART:20180915T213000Z
DTEND:20180916T040000Z
SUMMARY:ARM Market Stall - Volunteers wanted!
GEO:-34.843487;138.601078
LOCATION:Gepps Cross Markets\, 588 Main North Road\, 5094\, South Australia
 \, Australia
END:VEVENT
END:VCALENDAR
