BEGIN:VCALENDAR
VERSION:2.0
PRODID:-//Squarespace Inc/Squarespace 6//v6//EN
BEGIN:VEVENT
UID:5bfb9a33cd8366a6d90fedd7@squarespace.com
DTSTAMP:20181204T063629Z
DTSTART:20181212T070000Z
DTEND:20181212T093000Z
SUMMARY:NSW Branch end of year catch up
GEO:-33.863857;151.208758
LOCATION:Republic Hotel (Taylor’s Rooftop)\, 69-73 Pitt Street\, Sydney\, N
 SW\, 2000\, Australia
END:VEVENT
END:VCALENDAR
