BEGIN:VCALENDAR
VERSION:2.0
PRODID:-//Squarespace Inc/Squarespace 6//v6//EN
BEGIN:VEVENT
UID:5c061d5a1ae6cf92f724cd3a@squarespace.com
DTSTAMP:20181204T064324Z
DTSTART:20181215T040000Z
DTEND:20181215T060000Z
SUMMARY:Tasmanian republican end of year catch up
GEO:-42.874615;147.317494
LOCATION:Republic Bar & Cafe\, 299 Elizabeth Street\, North Hobart\, TAS\, 
 7000\, Australia
END:VEVENT
END:VCALENDAR
