BEGIN:VCALENDAR
VERSION:2.0
PRODID:-//Squarespace Inc/Squarespace 6//v6//EN
BEGIN:VEVENT
UID:5b73c622b8a045bca1d03d67@squarespace.com
DTSTAMP:20180828T232939Z
DTSTART:20180901T160000Z
DTEND:20180901T180000Z
SUMMARY:Wattle Day BBQ - ACT
GEO:-35.291677;149.100012
LOCATION:Black Mountain Peninsula BBQ Area\, Acton\, ACT
END:VEVENT
END:VCALENDAR
