BEGIN:VCALENDAR
VERSION:2.0
PRODID:-//Squarespace Inc/Squarespace 6//v6//EN
BEGIN:VEVENT
UID:5b7125bb88251b7c2c6eb2cb@squarespace.com
DTSTAMP:20180821T013838Z
DTSTART:20180901T163000Z
DTEND:20180901T173000Z
SUMMARY:Wattle Day - Republic Street Stall & BBQ
GEO:-37.713437;144.995761
LOCATION:Edwardes Lake Park\, Griffith Street\, Reservoir\, VIC 3073\, Aust
 ralia
END:VEVENT
END:VCALENDAR
