BEGIN:VCALENDAR
VERSION:2.0
PRODID:-//Squarespace Inc/Squarespace 6//v6//EN
BEGIN:VEVENT
UID:5b711d508a922ddbba293975@squarespace.com
DTSTAMP:20180821T013734Z
DTSTART:20180901T160000Z
DTEND:20180901T180000Z
SUMMARY:Coogee Beach BBQ - Wattle Day 2018
GEO:-33.919;151.2555
LOCATION:Coogee Beach\, Sydney\, Australia
END:VEVENT
END:VCALENDAR
