BEGIN:VCALENDAR
VERSION:2.0
PRODID:-//Squarespace Inc/Squarespace 6//v6//EN
BEGIN:VEVENT
UID:5b7b96926d2a73c4b60aad4b@squarespace.com
DTSTAMP:20180821T044023Z
DTSTART:20180901T180000Z
DTEND:20180901T200000Z
SUMMARY:Wattle Day Drinks
GEO:-33.83001;151.21921
LOCATION:The Oaks Hotel\, 118 Military Rd\, Mannix Room (Upstairs)\, Neutra
 l Bay\, NSW\, 2089\, Australia
END:VEVENT
END:VCALENDAR
