BEGIN:VCALENDAR
VERSION:2.0
PRODID:-//Squarespace Inc/Squarespace 6//v6//EN
BEGIN:VEVENT
UID:5b763a9421c67c8f15b76f5f@squarespace.com
DTSTAMP:20180821T013819Z
DTSTART:20180901T160000Z
DTEND:20180901T180000Z
SUMMARY:Wattle Day BBQ Geelong
GEO:-38.149918;144.361719
LOCATION:Eastern Beach Recreation Reserve\, Geelong\, VIC 3220\, Australia
END:VEVENT
END:VCALENDAR
