BEGIN:VCALENDAR
VERSION:2.0
PRODID:-//Squarespace Inc/Squarespace 6//v6//EN
BEGIN:VEVENT
UID:5b7a70874d7a9c3a959c3b72@squarespace.com
DTSTAMP:20180827T014203Z
DTSTART:20180901T160000Z
DTEND:20180901T180000Z
SUMMARY:Wattle Day BBQ Mandurah
GEO:-32.519863;115.730782
LOCATION:Mandurah Foreshore\, Mandurah Terrace\, WA\, 6210\, Australia
END:VEVENT
END:VCALENDAR
