BEGIN:VCALENDAR
VERSION:2.0
PRODID:-//Squarespace Inc/Squarespace 6//v6//EN
BEGIN:VEVENT
UID:5b73c4b621c67c83f64ae0bb@squarespace.com
DTSTAMP:20180821T013855Z
DTSTART:20180901T180000Z
DTEND:20180901T200000Z
SUMMARY:Wattle Day - Market Stall & Rails
GEO:-12.434077;130.844396
LOCATION:Railway Club\, 17 Somerville Gardens\, Parap\, Australia
END:VEVENT
END:VCALENDAR
