BEGIN:VCALENDAR
VERSION:2.0
PRODID:-//Squarespace Inc/Squarespace 6//v6//EN
BEGIN:VEVENT
UID:5b71235e21c67c133d16351c@squarespace.com
DTSTAMP:20180821T013915Z
DTSTART:20180901T233000Z
DTEND:20180902T023000Z
SUMMARY:Wattle Day Celebration SA
GEO:-34.934941;138.592434
LOCATION:The Duke of Brunswick\, 207 Gilbert Street\, Adelaide\, SA\, 5000\
 , Australia
END:VEVENT
END:VCALENDAR
