BEGIN:VCALENDAR
VERSION:2.0
PRODID:-//Squarespace Inc/Squarespace 6//v6//EN
BEGIN:VEVENT
UID:5b73d32e4ae237baa786db5b@squarespace.com
DTSTAMP:20180821T013903Z
DTSTART:20180901T190000Z
DTEND:20180901T210000Z
SUMMARY:Hobart BBQ - Wattle Day 2018
GEO:-42.874615;147.317494
LOCATION:Republic Bar & Cafe\, 299 Elizabeth St\, TAS\, Australia
END:VEVENT
END:VCALENDAR
